BEGIN:VCALENDAR
VERSION:2.0
PRODID:-//170.249.204.82//NONSGML kigkonsult.se iCalcreator 2.20//
CALSCALE:GREGORIAN
METHOD:PUBLISH
X-WR-TIMEZONE:UTC
BEGIN:VEVENT
UID:event1466@Brunswick Funeral Services
DTSTAMP:20260419T132656Z
CATEGORIES:Celebration of Life Service 
DESCRIPTION:Celebration of Life Service\nCategory: Celebration of Life Serv
 ice \nLink: https://brunswickfuneralservice.com/index.php?option=com_jem&v
 iew=event&id=1466:celebration-of-life-service\n
DTSTART:20250909T100000Z
DTEND:20250909T100000Z
LOCATION:St. James Community Center\,4136 Southport Supply Road\,28461 Sout
 hport
SUMMARY:Celebration of Life Service
URL:https://brunswickfuneralservice.com/index.php?option=com_jem&view=event
 &id=1466:celebration-of-life-service
END:VEVENT
END:VCALENDAR
