BEGIN:VCALENDAR
VERSION:2.0
PRODID:-//170.249.204.82//NONSGML kigkonsult.se iCalcreator 2.20//
CALSCALE:GREGORIAN
METHOD:PUBLISH
X-WR-TIMEZONE:UTC
BEGIN:VEVENT
UID:event723@Brunswick Funeral Services
DTSTAMP:20260419T174919Z
CATEGORIES:Memorial Service
DESCRIPTION:Celebration of Life \nCategory: Memorial Service\nLink: https:/
 /brunswickfuneralservice.com/index.php?option=com_jem&view=event&id=723:ce
 lebration-of-life\n
DTSTART:20211101T110000Z
DTEND:20211101T110000Z
LOCATION:St. James Community Center\,4136 Southport Supply Road\,28461 Sout
 hport
SUMMARY:Celebration of Life 
URL:https://brunswickfuneralservice.com/index.php?option=com_jem&view=event
 &id=723:celebration-of-life
END:VEVENT
END:VCALENDAR
